BEGIN:VCALENDAR
VERSION:2.0
PRODID:-// - ECPv4.9.6//NONSGML v1.0//EN
CALSCALE:GREGORIAN
METHOD:PUBLISH
X-ORIGINAL-URL:https://arctic-edge.com
X-WR-CALDESC:Events for 
BEGIN:VTIMEZONE
TZID:"America/Chicago"
BEGIN:DAYLIGHT
TZOFFSETFROM:-0600
TZOFFSETTO:-0500
TZNAME:CDT
DTSTART:20170312T080000
END:DAYLIGHT
BEGIN:STANDARD
TZOFFSETFROM:-0500
TZOFFSETTO:-0600
TZNAME:CST
DTSTART:20171105T070000
END:STANDARD
END:VTIMEZONE
BEGIN:VEVENT
DTSTART;TZID="America/Chicago":20170930T193000
DTEND;TZID="America/Chicago":20170930T230000
DTSTAMP:20260424T015118
CREATED:20170830T170315Z
LAST-MODIFIED:20170830T170315Z
UID:10614-1506799800-1506812400@arctic-edge.com
SUMMARY:UCO v Arkansas 7:30pm
DESCRIPTION:
URL:https://arctic-edge.com/event/uco-v-arkansas-730pm/
LOCATION:14613 N Kelly Ave.\, Oklahoma City\, 73013\, United States
CATEGORIES:Hockey
END:VEVENT
END:VCALENDAR