BEGIN:VCALENDAR
VERSION:2.0
PRODID:-// - ECPv4.9.6//NONSGML v1.0//EN
CALSCALE:GREGORIAN
METHOD:PUBLISH
X-ORIGINAL-URL:https://arctic-edge.com
X-WR-CALDESC:Events for 
BEGIN:VTIMEZONE
TZID:"America/Chicago"
BEGIN:DAYLIGHT
TZOFFSETFROM:-0600
TZOFFSETTO:-0500
TZNAME:CDT
DTSTART:20170312T080000
END:DAYLIGHT
BEGIN:STANDARD
TZOFFSETFROM:-0500
TZOFFSETTO:-0600
TZNAME:CST
DTSTART:20171105T070000
END:STANDARD
END:VTIMEZONE
BEGIN:VEVENT
DTSTART;TZID="America/Chicago":20170819T080000
DTEND;TZID="America/Chicago":20170819T093000
DTSTAMP:20260424T022811
CREATED:20170428T204539Z
LAST-MODIFIED:20170804T184745Z
UID:9167-1503129600-1503135000@arctic-edge.com
SUMMARY:Stick & Puck 8-9:30am
DESCRIPTION:
URL:https://arctic-edge.com/event/stick-puck-8-930am-3-2017-08-19/2017-08-19/
CATEGORIES:Stick & Puck
END:VEVENT
END:VCALENDAR