BEGIN:VCALENDAR
VERSION:2.0
PRODID:-// - ECPv4.9.6//NONSGML v1.0//EN
CALSCALE:GREGORIAN
METHOD:PUBLISH
X-ORIGINAL-URL:https://arctic-edge.com
X-WR-CALDESC:Events for 
BEGIN:VTIMEZONE
TZID:"America/Chicago"
BEGIN:DAYLIGHT
TZOFFSETFROM:-0600
TZOFFSETTO:-0500
TZNAME:CDT
DTSTART:20170312T080000
END:DAYLIGHT
BEGIN:STANDARD
TZOFFSETFROM:-0500
TZOFFSETTO:-0600
TZNAME:CST
DTSTART:20171105T070000
END:STANDARD
END:VTIMEZONE
BEGIN:VEVENT
DTSTART;TZID="America/Chicago":20170303T173000
DTEND;TZID="America/Chicago":20170303T190000
DTSTAMP:20260423T101426
CREATED:20170206T204820Z
LAST-MODIFIED:20170304T181106Z
UID:7058-1488562200-1488567600@arctic-edge.com
SUMMARY:Stick & Puck 5:30-7pm
DESCRIPTION:
URL:https://arctic-edge.com/event/stick-puck-530-7pm/2017-03-03/
CATEGORIES:Stick & Puck
END:VEVENT
END:VCALENDAR