BEGIN:VCALENDAR
VERSION:2.0
PRODID:-// - ECPv4.9.6//NONSGML v1.0//EN
CALSCALE:GREGORIAN
METHOD:PUBLISH
X-ORIGINAL-URL:https://arctic-edge.com
X-WR-CALDESC:Events for 
BEGIN:VTIMEZONE
TZID:"America/Chicago"
BEGIN:DAYLIGHT
TZOFFSETFROM:-0600
TZOFFSETTO:-0500
TZNAME:CDT
DTSTART:20190310T080000
END:DAYLIGHT
BEGIN:STANDARD
TZOFFSETFROM:-0500
TZOFFSETTO:-0600
TZNAME:CST
DTSTART:20191103T070000
END:STANDARD
END:VTIMEZONE
BEGIN:VEVENT
DTSTART;TZID="America/Chicago":20190118T173000
DTEND;TZID="America/Chicago":20190118T190000
DTSTAMP:20260423T132916
CREATED:20190113T231510Z
LAST-MODIFIED:20190113T231510Z
UID:14805-1547832600-1547838000@arctic-edge.com
SUMMARY:Stick & Puck 5:30-7pm
DESCRIPTION:
URL:https://arctic-edge.com/event/stick-puck-530-7pm-9/2019-01-18/
CATEGORIES:Stick & Puck
END:VEVENT
END:VCALENDAR