BEGIN:VCALENDAR
VERSION:2.0
PRODID:-// - ECPv4.9.6//NONSGML v1.0//EN
CALSCALE:GREGORIAN
METHOD:PUBLISH
X-ORIGINAL-URL:https://arctic-edge.com
X-WR-CALDESC:Events for 
BEGIN:VTIMEZONE
TZID:"America/Chicago"
BEGIN:DAYLIGHT
TZOFFSETFROM:-0600
TZOFFSETTO:-0500
TZNAME:CDT
DTSTART:20180311T080000
END:DAYLIGHT
BEGIN:STANDARD
TZOFFSETFROM:-0500
TZOFFSETTO:-0600
TZNAME:CST
DTSTART:20181104T070000
END:STANDARD
END:VTIMEZONE
BEGIN:VEVENT
DTSTART;TZID="America/Chicago":20180406T173000
DTEND;TZID="America/Chicago":20180406T190000
DTSTAMP:20260423T152935
CREATED:20180403T190036Z
LAST-MODIFIED:20180403T190036Z
UID:12183-1523035800-1523041200@arctic-edge.com
SUMMARY:Stick & Puck 5:30-7pm
DESCRIPTION:
URL:https://arctic-edge.com/event/stick-puck-530-7pm-6/2018-04-06/
CATEGORIES:Stick & Puck
END:VEVENT
END:VCALENDAR