BEGIN:VCALENDAR
VERSION:2.0
PRODID:-// - ECPv4.9.6//NONSGML v1.0//EN
CALSCALE:GREGORIAN
METHOD:PUBLISH
X-ORIGINAL-URL:https://arctic-edge.com
X-WR-CALDESC:Events for 
BEGIN:VTIMEZONE
TZID:"America/Chicago"
BEGIN:DAYLIGHT
TZOFFSETFROM:-0600
TZOFFSETTO:-0500
TZNAME:CDT
DTSTART:20170312T080000
END:DAYLIGHT
BEGIN:STANDARD
TZOFFSETFROM:-0500
TZOFFSETTO:-0600
TZNAME:CST
DTSTART:20171105T070000
END:STANDARD
END:VTIMEZONE
BEGIN:VEVENT
DTSTART;TZID="America/Chicago":20170426T164500
DTEND;TZID="America/Chicago":20170426T181500
DTSTAMP:20260424T040657
CREATED:20170414T203139Z
LAST-MODIFIED:20170414T203139Z
UID:8879-1493225100-1493230500@arctic-edge.com
SUMMARY:Stick & Puck 4:45-6:15pm
DESCRIPTION:
URL:https://arctic-edge.com/event/stick-puck-445-615pm-2/2017-04-26/
CATEGORIES:Stick & Puck
END:VEVENT
END:VCALENDAR