BEGIN:VCALENDAR
VERSION:2.0
PRODID:-// - ECPv4.9.6//NONSGML v1.0//EN
CALSCALE:GREGORIAN
METHOD:PUBLISH
X-ORIGINAL-URL:https://arctic-edge.com
X-WR-CALDESC:Events for 
BEGIN:VTIMEZONE
TZID:"America/Chicago"
BEGIN:DAYLIGHT
TZOFFSETFROM:-0600
TZOFFSETTO:-0500
TZNAME:CDT
DTSTART:20190310T080000
END:DAYLIGHT
BEGIN:STANDARD
TZOFFSETFROM:-0500
TZOFFSETTO:-0600
TZNAME:CST
DTSTART:20191103T070000
END:STANDARD
END:VTIMEZONE
BEGIN:VEVENT
DTSTART;TZID="America/Chicago":20190411T163000
DTEND;TZID="America/Chicago":20190411T180000
DTSTAMP:20260423T114117
CREATED:20190410T191601Z
LAST-MODIFIED:20190410T191601Z
UID:15249-1555000200-1555005600@arctic-edge.com
SUMMARY:Stick & Puck 4:30-6pm
DESCRIPTION:
URL:https://arctic-edge.com/event/stick-puck-430-6pm-27/
LOCATION:14613 N Kelly Ave.\, Oklahoma City\, OK\, 73013\, United States
CATEGORIES:Stick & Puck
END:VEVENT
END:VCALENDAR