BEGIN:VCALENDAR
VERSION:2.0
PRODID:-// - ECPv4.9.6//NONSGML v1.0//EN
CALSCALE:GREGORIAN
METHOD:PUBLISH
X-ORIGINAL-URL:https://arctic-edge.com
X-WR-CALDESC:Events for 
BEGIN:VTIMEZONE
TZID:"America/Chicago"
BEGIN:DAYLIGHT
TZOFFSETFROM:-0600
TZOFFSETTO:-0500
TZNAME:CDT
DTSTART:20180311T080000
END:DAYLIGHT
BEGIN:STANDARD
TZOFFSETFROM:-0500
TZOFFSETTO:-0600
TZNAME:CST
DTSTART:20181104T070000
END:STANDARD
END:VTIMEZONE
BEGIN:VEVENT
DTSTART;TZID="America/Chicago":20180404T163000
DTEND;TZID="America/Chicago":20180404T180000
DTSTAMP:20260423T185323
CREATED:20180403T185845Z
LAST-MODIFIED:20180403T185845Z
UID:12178-1522859400-1522864800@arctic-edge.com
SUMMARY:Stick & Puck 4:30-6pm
DESCRIPTION:
URL:https://arctic-edge.com/event/stick-puck-430-6pm-20/2018-04-04/
CATEGORIES:Stick & Puck
END:VEVENT
END:VCALENDAR