BEGIN:VCALENDAR
VERSION:2.0
PRODID:-// - ECPv4.9.6//NONSGML v1.0//EN
CALSCALE:GREGORIAN
METHOD:PUBLISH
X-ORIGINAL-URL:https://arctic-edge.com
X-WR-CALDESC:Events for 
BEGIN:VTIMEZONE
TZID:"America/Chicago"
BEGIN:DAYLIGHT
TZOFFSETFROM:-0600
TZOFFSETTO:-0500
TZNAME:CDT
DTSTART:20180311T080000
END:DAYLIGHT
BEGIN:STANDARD
TZOFFSETFROM:-0500
TZOFFSETTO:-0600
TZNAME:CST
DTSTART:20181104T070000
END:STANDARD
END:VTIMEZONE
BEGIN:VEVENT
DTSTART;TZID="America/Chicago":20180326T183000
DTEND;TZID="America/Chicago":20180326T200000
DTSTAMP:20260423T191422
CREATED:20180102T210131Z
LAST-MODIFIED:20180306T174906Z
UID:11635-1522089000-1522094400@arctic-edge.com
SUMMARY:Stick & Puck 6-8:30pm
DESCRIPTION:
URL:https://arctic-edge.com/event/stick-puck-430-6pm-18-2018-03-26/
LOCATION:14613 N Kelly Ave.\, Oklahoma City\, 73013\, United States
CATEGORIES:Stick & Puck
END:VEVENT
END:VCALENDAR