BEGIN:VCALENDAR
VERSION:2.0
PRODID:-// - ECPv4.9.6//NONSGML v1.0//EN
CALSCALE:GREGORIAN
METHOD:PUBLISH
X-ORIGINAL-URL:https://arctic-edge.com
X-WR-CALDESC:Events for 
BEGIN:VTIMEZONE
TZID:"America/Chicago"
BEGIN:DAYLIGHT
TZOFFSETFROM:-0600
TZOFFSETTO:-0500
TZNAME:CDT
DTSTART:20170312T080000
END:DAYLIGHT
BEGIN:STANDARD
TZOFFSETFROM:-0500
TZOFFSETTO:-0600
TZNAME:CST
DTSTART:20171105T070000
END:STANDARD
END:VTIMEZONE
BEGIN:VEVENT
DTSTART;TZID="America/Chicago":20171223T120000
DTEND;TZID="America/Chicago":20171223T133000
DTSTAMP:20260424T001446
CREATED:20171221T183158Z
LAST-MODIFIED:20171221T183158Z
UID:11294-1514030400-1514035800@arctic-edge.com
SUMMARY:Stick & Puck 12-1:30pm
DESCRIPTION:
URL:https://arctic-edge.com/event/stick-puck-12-130pm-2/
LOCATION:14613 N Kelly Ave.\, Oklahoma City\, 73013\, United States
CATEGORIES:Stick & Puck
END:VEVENT
END:VCALENDAR