BEGIN:VCALENDAR
VERSION:2.0
PRODID:-// - ECPv4.9.6//NONSGML v1.0//EN
CALSCALE:GREGORIAN
METHOD:PUBLISH
X-ORIGINAL-URL:https://arctic-edge.com
X-WR-CALDESC:Events for 
BEGIN:VTIMEZONE
TZID:"America/Chicago"
BEGIN:DAYLIGHT
TZOFFSETFROM:-0600
TZOFFSETTO:-0500
TZNAME:CDT
DTSTART:20190310T080000
END:DAYLIGHT
BEGIN:STANDARD
TZOFFSETFROM:-0500
TZOFFSETTO:-0600
TZNAME:CST
DTSTART:20191103T070000
END:STANDARD
END:VTIMEZONE
BEGIN:VEVENT
DTSTART;TZID="America/Chicago":20190331T100000
DTEND;TZID="America/Chicago":20190331T113000
DTSTAMP:20260423T114230
CREATED:20190327T194109Z
LAST-MODIFIED:20190327T194109Z
UID:15178-1554026400-1554031800@arctic-edge.com
SUMMARY:Stick & Puck 10-11:30am
DESCRIPTION:
URL:https://arctic-edge.com/event/stick-puck-10-1130am-13/
LOCATION:14613 N Kelly Ave.\, Oklahoma City\, OK\, 73013\, United States
CATEGORIES:Stick & Puck
END:VEVENT
END:VCALENDAR