BEGIN:VCALENDAR
VERSION:2.0
PRODID:-// - ECPv4.9.6//NONSGML v1.0//EN
CALSCALE:GREGORIAN
METHOD:PUBLISH
X-ORIGINAL-URL:https://arctic-edge.com
X-WR-CALDESC:Events for 
BEGIN:VTIMEZONE
TZID:"America/Chicago"
BEGIN:DAYLIGHT
TZOFFSETFROM:-0600
TZOFFSETTO:-0500
TZNAME:CDT
DTSTART:20170312T080000
END:DAYLIGHT
BEGIN:STANDARD
TZOFFSETFROM:-0500
TZOFFSETTO:-0600
TZNAME:CST
DTSTART:20171105T070000
END:STANDARD
END:VTIMEZONE
BEGIN:VEVENT
DTSTART;TZID="America/Chicago":20170624T203000
DTEND;TZID="America/Chicago":20170624T223000
DTSTAMP:20260424T054955
CREATED:20170331T214650Z
LAST-MODIFIED:20170616T154810Z
UID:8717-1498336200-1498343400@arctic-edge.com
SUMMARY:Public Skate 8:30-10:30pm
DESCRIPTION:
URL:https://arctic-edge.com/event/public-skate-730-10pm-5-2017-06-24/
CATEGORIES:Public Skate
END:VEVENT
END:VCALENDAR