BEGIN:VCALENDAR
VERSION:2.0
PRODID:-// - ECPv4.9.6//NONSGML v1.0//EN
CALSCALE:GREGORIAN
METHOD:PUBLISH
X-ORIGINAL-URL:https://arctic-edge.com
X-WR-CALDESC:Events for 
BEGIN:VTIMEZONE
TZID:"America/Chicago"
BEGIN:DAYLIGHT
TZOFFSETFROM:-0600
TZOFFSETTO:-0500
TZNAME:CDT
DTSTART:20160313T080000
END:DAYLIGHT
BEGIN:STANDARD
TZOFFSETFROM:-0500
TZOFFSETTO:-0600
TZNAME:CST
DTSTART:20161106T070000
END:STANDARD
END:VTIMEZONE
BEGIN:VEVENT
DTSTART;TZID="America/Chicago":20161203T193000
DTEND;TZID="America/Chicago":20161203T220000
DTSTAMP:20260420T063116
CREATED:20161201T193053Z
LAST-MODIFIED:20161201T193053Z
UID:5534-1480793400-1480802400@arctic-edge.com
SUMMARY:Public Skate 7:30-10pm
DESCRIPTION:
URL:https://arctic-edge.com/event/public-skate-730-10pm-2/2016-12-03/
LOCATION:Arctic Edge East
CATEGORIES:Public Skate
END:VEVENT
END:VCALENDAR