BEGIN:VCALENDAR
VERSION:2.0
PRODID:-// - ECPv4.9.6//NONSGML v1.0//EN
CALSCALE:GREGORIAN
METHOD:PUBLISH
X-ORIGINAL-URL:https://arctic-edge.com
X-WR-CALDESC:Events for 
BEGIN:VTIMEZONE
TZID:"America/Chicago"
BEGIN:DAYLIGHT
TZOFFSETFROM:-0600
TZOFFSETTO:-0500
TZNAME:CDT
DTSTART:20190310T080000
END:DAYLIGHT
BEGIN:STANDARD
TZOFFSETFROM:-0500
TZOFFSETTO:-0600
TZNAME:CST
DTSTART:20191103T070000
END:STANDARD
END:VTIMEZONE
BEGIN:VEVENT
DTSTART;TZID="America/Chicago":20190320T190000
DTEND;TZID="America/Chicago":20190320T210000
DTSTAMP:20260423T132409
CREATED:20190319T184416Z
LAST-MODIFIED:20190319T184416Z
UID:15121-1553108400-1553115600@arctic-edge.com
SUMMARY:Public Skate 7-9pm
DESCRIPTION:
URL:https://arctic-edge.com/event/public-skate-7-9pm/
CATEGORIES:Public Skate
END:VEVENT
END:VCALENDAR