BEGIN:VCALENDAR
VERSION:2.0
PRODID:-// - ECPv4.9.6//NONSGML v1.0//EN
CALSCALE:GREGORIAN
METHOD:PUBLISH
X-ORIGINAL-URL:https://arctic-edge.com
X-WR-CALDESC:Events for 
BEGIN:VTIMEZONE
TZID:"America/Chicago"
BEGIN:DAYLIGHT
TZOFFSETFROM:-0600
TZOFFSETTO:-0500
TZNAME:CDT
DTSTART:20160313T080000
END:DAYLIGHT
BEGIN:STANDARD
TZOFFSETFROM:-0500
TZOFFSETTO:-0600
TZNAME:CST
DTSTART:20161106T070000
END:STANDARD
END:VTIMEZONE
BEGIN:VEVENT
DTSTART;TZID="America/Chicago":20161209T173000
DTEND;TZID="America/Chicago":20161209T193000
DTSTAMP:20260419T232642
CREATED:20161201T194239Z
LAST-MODIFIED:20161201T194239Z
UID:5657-1481304600-1481311800@arctic-edge.com
SUMMARY:Public Skate 5:30-7:30pm
DESCRIPTION:
URL:https://arctic-edge.com/event/public-skate-530-730pm/2016-12-09/
LOCATION:Arctic Edge East
CATEGORIES:Public Skate
END:VEVENT
END:VCALENDAR