BEGIN:VCALENDAR
VERSION:2.0
PRODID:-// - ECPv4.9.6//NONSGML v1.0//EN
CALSCALE:GREGORIAN
METHOD:PUBLISH
X-ORIGINAL-URL:https://arctic-edge.com
X-WR-CALDESC:Events for 
BEGIN:VTIMEZONE
TZID:"America/Chicago"
BEGIN:DAYLIGHT
TZOFFSETFROM:-0600
TZOFFSETTO:-0500
TZNAME:CDT
DTSTART:20160313T080000
END:DAYLIGHT
BEGIN:STANDARD
TZOFFSETFROM:-0500
TZOFFSETTO:-0600
TZNAME:CST
DTSTART:20161106T070000
END:STANDARD
END:VTIMEZONE
BEGIN:VEVENT
DTSTART;TZID="America/Chicago":20161217T170000
DTEND;TZID="America/Chicago":20161217T190000
DTSTAMP:20260419T175844
CREATED:20161201T192927Z
LAST-MODIFIED:20170203T174653Z
UID:5523-1481994000-1482001200@arctic-edge.com
SUMMARY:Public Skate 5-7pm
DESCRIPTION:
URL:https://arctic-edge.com/event/public-skate-5-7pm-2016-12-17/2016-12-17/
LOCATION:Arctic Edge East
CATEGORIES:Public Skate
END:VEVENT
END:VCALENDAR