BEGIN:VCALENDAR
VERSION:2.0
PRODID:-// - ECPv4.9.6//NONSGML v1.0//EN
CALSCALE:GREGORIAN
METHOD:PUBLISH
X-ORIGINAL-URL:https://arctic-edge.com
X-WR-CALDESC:Events for 
BEGIN:VTIMEZONE
TZID:"America/Chicago"
BEGIN:DAYLIGHT
TZOFFSETFROM:-0600
TZOFFSETTO:-0500
TZNAME:CDT
DTSTART:20180311T080000
END:DAYLIGHT
BEGIN:STANDARD
TZOFFSETFROM:-0500
TZOFFSETTO:-0600
TZNAME:CST
DTSTART:20181104T070000
END:STANDARD
END:VTIMEZONE
BEGIN:VEVENT
DTSTART;TZID="America/Chicago":20180602T170000
DTEND;TZID="America/Chicago":20180602T190000
DTSTAMP:20260423T220433
CREATED:20180601T221625Z
LAST-MODIFIED:20180601T221625Z
UID:13305-1527958800-1527966000@arctic-edge.com
SUMMARY:Public Skate 5-7pm
DESCRIPTION:
URL:https://arctic-edge.com/event/public-skate-5-7pm-11/2018-06-02/
CATEGORIES:Public Skate
END:VEVENT
END:VCALENDAR