BEGIN:VCALENDAR
VERSION:2.0
PRODID:-// - ECPv4.9.6//NONSGML v1.0//EN
CALSCALE:GREGORIAN
METHOD:PUBLISH
X-ORIGINAL-URL:https://arctic-edge.com
X-WR-CALDESC:Events for 
BEGIN:VTIMEZONE
TZID:"America/Chicago"
BEGIN:DAYLIGHT
TZOFFSETFROM:-0600
TZOFFSETTO:-0500
TZNAME:CDT
DTSTART:20170312T080000
END:DAYLIGHT
BEGIN:STANDARD
TZOFFSETFROM:-0500
TZOFFSETTO:-0600
TZNAME:CST
DTSTART:20171105T070000
END:STANDARD
END:VTIMEZONE
BEGIN:VEVENT
DTSTART;TZID="America/Chicago":20171221T153000
DTEND;TZID="America/Chicago":20171221T183000
DTSTAMP:20260424T001616
CREATED:20171221T181629Z
LAST-MODIFIED:20171221T181629Z
UID:11265-1513870200-1513881000@arctic-edge.com
SUMMARY:Public Skate 3:30-6:30pm
DESCRIPTION:
URL:https://arctic-edge.com/event/public-skate-330-630pm-3/
LOCATION:14613 N Kelly Ave.\, Oklahoma City\, 73013\, United States
CATEGORIES:Public Skate
END:VEVENT
END:VCALENDAR