BEGIN:VCALENDAR
VERSION:2.0
PRODID:-// - ECPv4.9.6//NONSGML v1.0//EN
CALSCALE:GREGORIAN
METHOD:PUBLISH
X-ORIGINAL-URL:https://arctic-edge.com
X-WR-CALDESC:Events for 
BEGIN:VTIMEZONE
TZID:"America/Chicago"
BEGIN:DAYLIGHT
TZOFFSETFROM:-0600
TZOFFSETTO:-0500
TZNAME:CDT
DTSTART:20180311T080000
END:DAYLIGHT
BEGIN:STANDARD
TZOFFSETFROM:-0500
TZOFFSETTO:-0600
TZNAME:CST
DTSTART:20181104T070000
END:STANDARD
END:VTIMEZONE
BEGIN:VEVENT
DTSTART;TZID="America/Chicago":20180512T143000
DTEND;TZID="America/Chicago":20180512T163000
DTSTAMP:20260423T184146
CREATED:20180508T175357Z
LAST-MODIFIED:20180508T175357Z
UID:12941-1526135400-1526142600@arctic-edge.com
SUMMARY:Public Skate 2:30-4:30pm
DESCRIPTION:
URL:https://arctic-edge.com/event/public-skate-230-430pm-9/2018-05-12/
CATEGORIES:Public Skate
END:VEVENT
END:VCALENDAR