BEGIN:VCALENDAR
VERSION:2.0
PRODID:-// - ECPv4.9.6//NONSGML v1.0//EN
CALSCALE:GREGORIAN
METHOD:PUBLISH
X-ORIGINAL-URL:https://arctic-edge.com
X-WR-CALDESC:Events for 
BEGIN:VTIMEZONE
TZID:"America/Chicago"
BEGIN:DAYLIGHT
TZOFFSETFROM:-0600
TZOFFSETTO:-0500
TZNAME:CDT
DTSTART:20190310T080000
END:DAYLIGHT
BEGIN:STANDARD
TZOFFSETFROM:-0500
TZOFFSETTO:-0600
TZNAME:CST
DTSTART:20191103T070000
END:STANDARD
END:VTIMEZONE
BEGIN:VEVENT
DTSTART;TZID="America/Chicago":20190119T143000
DTEND;TZID="America/Chicago":20190119T163000
DTSTAMP:20260423T152053
CREATED:20190113T224138Z
LAST-MODIFIED:20190113T224138Z
UID:14763-1547908200-1547915400@arctic-edge.com
SUMMARY:Public Skate 2:30-4:30pm
DESCRIPTION:
URL:https://arctic-edge.com/event/public-skate-230-430pm-11/
CATEGORIES:Public Skate
END:VEVENT
END:VCALENDAR