BEGIN:VCALENDAR
VERSION:2.0
PRODID:-// - ECPv4.9.6//NONSGML v1.0//EN
CALSCALE:GREGORIAN
METHOD:PUBLISH
X-ORIGINAL-URL:https://arctic-edge.com
X-WR-CALDESC:Events for 
BEGIN:VTIMEZONE
TZID:"America/Chicago"
BEGIN:DAYLIGHT
TZOFFSETFROM:-0600
TZOFFSETTO:-0500
TZNAME:CDT
DTSTART:20180311T080000
END:DAYLIGHT
BEGIN:STANDARD
TZOFFSETFROM:-0500
TZOFFSETTO:-0600
TZNAME:CST
DTSTART:20181104T070000
END:STANDARD
END:VTIMEZONE
BEGIN:VEVENT
DTSTART;TZID="America/Chicago":20180415T123000
DTEND;TZID="America/Chicago":20180415T140000
DTSTAMP:20260423T185406
CREATED:20180306T172508Z
LAST-MODIFIED:20180403T191531Z
UID:12079-1523795400-1523800800@arctic-edge.com
SUMMARY:Public Skate 12-2pm
DESCRIPTION:
URL:https://arctic-edge.com/event/public-skate-12-3pm-13-2018-04-15/
CATEGORIES:Public Skate
END:VEVENT
END:VCALENDAR