BEGIN:VCALENDAR
VERSION:2.0
PRODID:-// - ECPv4.9.6//NONSGML v1.0//EN
CALSCALE:GREGORIAN
METHOD:PUBLISH
X-ORIGINAL-URL:https://arctic-edge.com
X-WR-CALDESC:Events for 
BEGIN:VTIMEZONE
TZID:"America/Chicago"
BEGIN:DAYLIGHT
TZOFFSETFROM:-0600
TZOFFSETTO:-0500
TZNAME:CDT
DTSTART:20180311T080000
END:DAYLIGHT
BEGIN:STANDARD
TZOFFSETFROM:-0500
TZOFFSETTO:-0600
TZNAME:CST
DTSTART:20181104T070000
END:STANDARD
END:VTIMEZONE
BEGIN:VEVENT
DTSTART;TZID="America/Chicago":20180211T120000
DTEND;TZID="America/Chicago":20180211T150000
DTSTAMP:20260424T001615
CREATED:20180205T213331Z
LAST-MODIFIED:20180205T213331Z
UID:11930-1518350400-1518361200@arctic-edge.com
SUMMARY:Public Skate 12-3pm
DESCRIPTION:
URL:https://arctic-edge.com/event/public-skate-12-3pm-12/
LOCATION:14613 N Kelly Ave.\, Oklahoma City\, 73013\, United States
CATEGORIES:Public Skate
END:VEVENT
END:VCALENDAR