BEGIN:VCALENDAR
VERSION:2.0
PRODID:-// - ECPv4.9.6//NONSGML v1.0//EN
CALSCALE:GREGORIAN
METHOD:PUBLISH
X-ORIGINAL-URL:https://arctic-edge.com
X-WR-CALDESC:Events for 
BEGIN:VTIMEZONE
TZID:"America/Chicago"
BEGIN:DAYLIGHT
TZOFFSETFROM:-0600
TZOFFSETTO:-0500
TZNAME:CDT
DTSTART:20170312T080000
END:DAYLIGHT
BEGIN:STANDARD
TZOFFSETFROM:-0500
TZOFFSETTO:-0600
TZNAME:CST
DTSTART:20171105T070000
END:STANDARD
END:VTIMEZONE
BEGIN:VEVENT
DTSTART;TZID="America/Chicago":20170211T120000
DTEND;TZID="America/Chicago":20170211T140000
DTSTAMP:20260423T083543
CREATED:20161201T192606Z
LAST-MODIFIED:20170203T175424Z
UID:5501-1486814400-1486821600@arctic-edge.com
SUMMARY:Public Skate 12-2pm
DESCRIPTION:
URL:https://arctic-edge.com/event/public-skate-12-2pm-2017-02-11/
LOCATION:Arctic Edge East
CATEGORIES:Public Skate
END:VEVENT
END:VCALENDAR