BEGIN:VCALENDAR
VERSION:2.0
PRODID:-// - ECPv4.9.6//NONSGML v1.0//EN
CALSCALE:GREGORIAN
METHOD:PUBLISH
X-ORIGINAL-URL:https://arctic-edge.com
X-WR-CALDESC:Events for 
BEGIN:VTIMEZONE
TZID:"America/Chicago"
BEGIN:DAYLIGHT
TZOFFSETFROM:-0600
TZOFFSETTO:-0500
TZNAME:CDT
DTSTART:20170312T080000
END:DAYLIGHT
BEGIN:STANDARD
TZOFFSETFROM:-0500
TZOFFSETTO:-0600
TZNAME:CST
DTSTART:20171105T070000
END:STANDARD
END:VTIMEZONE
BEGIN:VEVENT
DTSTART;TZID="America/Chicago":20170630T130000
DTEND;TZID="America/Chicago":20170630T150000
DTSTAMP:20260424T090918
CREATED:20170629T192113Z
LAST-MODIFIED:20170629T192113Z
UID:9677-1498827600-1498834800@arctic-edge.com
SUMMARY:Public Skate 1-3pm
DESCRIPTION:
URL:https://arctic-edge.com/event/public-skate-1-3pm-2/2017-06-30/
CATEGORIES:Public Skate
END:VEVENT
END:VCALENDAR