BEGIN:VCALENDAR
VERSION:2.0
PRODID:-// - ECPv4.9.6//NONSGML v1.0//EN
CALSCALE:GREGORIAN
METHOD:PUBLISH
X-ORIGINAL-URL:https://arctic-edge.com
X-WR-CALDESC:Events for 
BEGIN:VTIMEZONE
TZID:"America/Chicago"
BEGIN:DAYLIGHT
TZOFFSETFROM:-0600
TZOFFSETTO:-0500
TZNAME:CDT
DTSTART:20160313T080000
END:DAYLIGHT
BEGIN:STANDARD
TZOFFSETFROM:-0500
TZOFFSETTO:-0600
TZNAME:CST
DTSTART:20161106T070000
END:STANDARD
END:VTIMEZONE
BEGIN:VEVENT
DTSTART;TZID="America/Chicago":20161203T094500
DTEND;TZID="America/Chicago":20161203T104500
DTSTAMP:20260420T165837
CREATED:20161201T200218Z
LAST-MODIFIED:20161201T200218Z
UID:5778-1480758300-1480761900@arctic-edge.com
SUMMARY:Hockey Academy 9:45-10:45am
DESCRIPTION:
URL:https://arctic-edge.com/event/hockey-academy-945-1045am/2016-12-03/
LOCATION:Arctic Edge West
CATEGORIES:Hockey Academy
END:VEVENT
END:VCALENDAR