BEGIN:VCALENDAR
VERSION:2.0
PRODID:-// - ECPv4.9.6//NONSGML v1.0//EN
CALSCALE:GREGORIAN
METHOD:PUBLISH
X-ORIGINAL-URL:https://arctic-edge.com
X-WR-CALDESC:Events for 
BEGIN:VTIMEZONE
TZID:"America/Chicago"
BEGIN:DAYLIGHT
TZOFFSETFROM:-0600
TZOFFSETTO:-0500
TZNAME:CDT
DTSTART:20170312T080000
END:DAYLIGHT
BEGIN:STANDARD
TZOFFSETFROM:-0500
TZOFFSETTO:-0600
TZNAME:CST
DTSTART:20171105T070000
END:STANDARD
END:VTIMEZONE
BEGIN:VEVENT
DTSTART;TZID="America/Chicago":20170718T210000
DTEND;TZID="America/Chicago":20170718T221500
DTSTAMP:20260424T070340
CREATED:20170706T165703Z
LAST-MODIFIED:20170706T165703Z
UID:9723-1500411600-1500416100@arctic-edge.com
SUMMARY:Adult Instructional 9-10:15pm
DESCRIPTION:
URL:https://arctic-edge.com/event/adult-instructional-9-1015pm-2/
CATEGORIES:Hockey
END:VEVENT
END:VCALENDAR