BEGIN:VCALENDAR
VERSION:2.0
PRODID:-// - ECPv4.9.6//NONSGML v1.0//EN
CALSCALE:GREGORIAN
METHOD:PUBLISH
X-ORIGINAL-URL:https://arctic-edge.com
X-WR-CALDESC:Events for 
BEGIN:VTIMEZONE
TZID:"America/Chicago"
BEGIN:DAYLIGHT
TZOFFSETFROM:-0600
TZOFFSETTO:-0500
TZNAME:CDT
DTSTART:20180311T080000
END:DAYLIGHT
BEGIN:STANDARD
TZOFFSETFROM:-0500
TZOFFSETTO:-0600
TZNAME:CST
DTSTART:20181104T070000
END:STANDARD
END:VTIMEZONE
BEGIN:VEVENT
DTSTART;TZID="America/Chicago":20180128T071500
DTEND;TZID="America/Chicago":20180128T084500
DTSTAMP:20260423T184352
CREATED:20180127T142859Z
LAST-MODIFIED:20180127T142859Z
UID:11812-1517123700-1517129100@arctic-edge.com
SUMMARY:7:15-8:45am Stick & Puck
DESCRIPTION:
URL:https://arctic-edge.com/event/715-845am-stick-puck/
LOCATION:14613 N Kelly Ave.\, Oklahoma City\, 73013\, United States
CATEGORIES:Stick & Puck
END:VEVENT
END:VCALENDAR