BEGIN:VCALENDAR
VERSION:2.0
PRODID:-// - ECPv4.9.6//NONSGML v1.0//EN
CALSCALE:GREGORIAN
METHOD:PUBLISH
X-ORIGINAL-URL:https://arctic-edge.com
X-WR-CALDESC:Events for 
BEGIN:VTIMEZONE
TZID:"America/Chicago"
BEGIN:DAYLIGHT
TZOFFSETFROM:-0600
TZOFFSETTO:-0500
TZNAME:CDT
DTSTART:20190310T080000
END:DAYLIGHT
BEGIN:STANDARD
TZOFFSETFROM:-0500
TZOFFSETTO:-0600
TZNAME:CST
DTSTART:20191103T070000
END:STANDARD
END:VTIMEZONE
BEGIN:VEVENT
DTSTART;TZID="America/Chicago":20190126T123000
DTEND;TZID="America/Chicago":20190126T140000
DTSTAMP:20260423T113938
CREATED:20190123T195110Z
LAST-MODIFIED:20190123T195110Z
UID:14882-1548505800-1548511200@arctic-edge.com
SUMMARY:12:30-2pm Stick & Puck
DESCRIPTION:
URL:https://arctic-edge.com/event/1230-2pm-stick-puck/
CATEGORIES:Stick & Puck
END:VEVENT
END:VCALENDAR